BEGIN:VCALENDAR
VERSION:2.0
PRODID:SchoolNow
CALSCALE:GREGORIAN
BEGIN:VEVENT
UID:39c32120-8a8b-11f0-bd7c-0eac18ed6063
DTSTAMP:20250905T190502Z
SUMMARY:Open Swim (4-25-26)
URL;VALUE=URI:https://www.liverpool.k12.ny.us/departments/athletics/calenda
 r/8584950/open-swim-4-25-26
DTSTART:20260425T200000Z
DTEND:20260425T220000Z
END:VEVENT
END:VCALENDAR
