BEGIN:VCALENDAR
VERSION:2.0
PRODID:SchoolNow
CALSCALE:GREGORIAN
BEGIN:VEVENT
UID:516aa37a-8a8b-11f0-8f5f-02538cadc0c7
DTSTAMP:20250905T190541Z
SUMMARY:Open Swim (4-30-26)
URL;VALUE=URI:https://www.liverpool.k12.ny.us/departments/athletics/calenda
 r/8584952/open-swim-4-30-26
DTSTART:20260430T224500Z
DTEND:20260501T004500Z
END:VEVENT
END:VCALENDAR
