BEGIN:VCALENDAR
VERSION:2.0
PRODID:SchoolNow
CALSCALE:GREGORIAN
BEGIN:VEVENT
UID:6dfc6f5a-8a8b-11f0-90a2-0ee2387fc54b
DTSTAMP:20250905T190629Z
SUMMARY:Open Swim (5-2-26)
URL;VALUE=URI:https://www.liverpool.k12.ny.us/departments/athletics/calenda
 r/8584953/open-swim-5-2-26
DTSTART:20260502T200000Z
DTEND:20260502T220000Z
END:VEVENT
END:VCALENDAR
