BEGIN:VCALENDAR
VERSION:2.0
PRODID:SchoolNow
CALSCALE:GREGORIAN
BEGIN:VEVENT
UID:868e17c6-8a8b-11f0-a9cc-0eac18ed6063
DTSTAMP:20250905T190711Z
SUMMARY:Open Swim (5-7-26)
URL;VALUE=URI:https://www.liverpool.k12.ny.us/departments/athletics/calenda
 r/8584954/open-swim-5-7-26
DTSTART:20260507T224500Z
DTEND:20260508T004500Z
END:VEVENT
END:VCALENDAR
