BEGIN:VCALENDAR
VERSION:2.0
PRODID:SchoolNow
CALSCALE:GREGORIAN
BEGIN:VEVENT
UID:977e43ee-8a8b-11f0-b5a9-02538cadc0c7
DTSTAMP:20250905T190739Z
SUMMARY:Open Swim (5-9-26)
URL;VALUE=URI:https://www.liverpool.k12.ny.us/departments/athletics/calenda
 r/8584955/open-swim-5-9-26
DTSTART:20260509T200000Z
DTEND:20260509T220000Z
END:VEVENT
END:VCALENDAR
