BEGIN:VCALENDAR
VERSION:2.0
PRODID:SchoolNow
CALSCALE:GREGORIAN
BEGIN:VEVENT
UID:881c8fda-8a8d-11f0-94dc-02d2225c000b
DTSTAMP:20250905T192132Z
SUMMARY:Open Swim (5-14-26)
URL;VALUE=URI:https://www.liverpool.k12.ny.us/departments/athletics/calenda
 r/8584963/open-swim-5-14-26
DTSTART:20260514T224500Z
DTEND:20260515T004500Z
END:VEVENT
END:VCALENDAR
