BEGIN:VCALENDAR
VERSION:2.0
PRODID:SchoolNow
CALSCALE:GREGORIAN
BEGIN:VEVENT
UID:9f19b654-8a8d-11f0-a0f8-0a58a9feac02
DTSTAMP:20250905T192211Z
SUMMARY:Open Swim (5-16-26)
URL;VALUE=URI:https://www.liverpool.k12.ny.us/departments/athletics/calenda
 r/8584964/open-swim-5-16-26
DTSTART:20260516T200000Z
DTEND:20260516T220000Z
END:VEVENT
END:VCALENDAR
