BEGIN:VCALENDAR
VERSION:2.0
PRODID:SchoolNow
CALSCALE:GREGORIAN
BEGIN:VEVENT
UID:b43a9cb0-8a8d-11f0-a083-0a58a9feac02
DTSTAMP:20250905T192246Z
SUMMARY:Open Swim (5-21-26)
URL;VALUE=URI:https://www.liverpool.k12.ny.us/departments/athletics/calenda
 r/8584965/open-swim-5-21-26
DTSTART:20260521T224500Z
DTEND:20260522T004500Z
END:VEVENT
END:VCALENDAR
