BEGIN:VCALENDAR
VERSION:2.0
PRODID:SchoolNow
CALSCALE:GREGORIAN
BEGIN:VEVENT
UID:c7258b00-8a8d-11f0-befb-0a58a9feac02
DTSTAMP:20250905T192318Z
SUMMARY:Open Swim (5-28-26)
URL;VALUE=URI:https://www.liverpool.k12.ny.us/departments/athletics/calenda
 r/8584966/open-swim-5-28-26
DTSTART:20260528T224500Z
DTEND:20260529T004500Z
END:VEVENT
END:VCALENDAR
