BEGIN:VCALENDAR
VERSION:2.0
PRODID:SchoolNow
CALSCALE:GREGORIAN
BEGIN:VEVENT
UID:daf53d06-8a8d-11f0-a19b-0e8bc1cedf75
DTSTAMP:20250905T192351Z
SUMMARY:Open Swim (5-30-26)
URL;VALUE=URI:https://www.liverpool.k12.ny.us/departments/athletics/calenda
 r/8584967/open-swim-5-30-26
DTSTART:20260530T200000Z
DTEND:20260530T220000Z
END:VEVENT
END:VCALENDAR
