BEGIN:VCALENDAR
VERSION:2.0
PRODID:SchoolNow
CALSCALE:GREGORIAN
BEGIN:VEVENT
UID:f868a544-779b-11eb-830b-0e1bf08c08cf
DTSTAMP:20210316T193827Z
SUMMARY:Pay Day (3-5-21)
URL;VALUE=URI:https://www.liverpool.k12.ny.us/departments/business-office/c
 alendar/2546869/pay-day
DTSTART;VALUE=DATE:20210305
DTEND;VALUE=DATE:20210306
END:VEVENT
END:VCALENDAR
