BEGIN:VCALENDAR
VERSION:2.0
PRODID:SchoolNow
CALSCALE:GREGORIAN
BEGIN:VEVENT
UID:c55b1488-779c-11eb-b2fb-0e1bf08c08cf
DTSTAMP:20210316T193643Z
SUMMARY:Pay Day (3-19-21)
URL;VALUE=URI:https://www.liverpool.k12.ny.us/departments/business-office/c
 alendar/2546870/pay-day
DTSTART;VALUE=DATE:20210319
DTEND;VALUE=DATE:20210320
END:VEVENT
END:VCALENDAR
