BEGIN:VCALENDAR
VERSION:2.0
PRODID:SchoolNow
CALSCALE:GREGORIAN
BEGIN:VEVENT
UID:e2fef6a8-779c-11eb-8ee0-0e1bf08c08cf
DTSTAMP:20210316T193653Z
SUMMARY:Pay Day (4-2-21)
URL;VALUE=URI:https://www.liverpool.k12.ny.us/departments/business-office/c
 alendar/2546871/pay-day
DTSTART;VALUE=DATE:20210402
DTEND;VALUE=DATE:20210403
END:VEVENT
END:VCALENDAR
