BEGIN:VCALENDAR
VERSION:2.0
PRODID:SchoolNow
CALSCALE:GREGORIAN
BEGIN:VEVENT
UID:f3911d20-779c-11eb-b14c-0e1bf08c08cf
DTSTAMP:20210316T193703Z
SUMMARY:Pay Day (4-16-21)
URL;VALUE=URI:https://www.liverpool.k12.ny.us/departments/business-office/c
 alendar/2546872/pay-day
DTSTART;VALUE=DATE:20210416
DTEND;VALUE=DATE:20210417
END:VEVENT
END:VCALENDAR
