BEGIN:VCALENDAR
VERSION:2.0
PRODID:SchoolNow
CALSCALE:GREGORIAN
BEGIN:VEVENT
UID:d55cc416-7b80-11eb-b5a6-0a3bb170bc43
DTSTAMP:20210316T193736Z
SUMMARY:Pay Day (5-14-21)
URL;VALUE=URI:https://www.liverpool.k12.ny.us/departments/business-office/c
 alendar/2550621/pay-day
DTSTART;VALUE=DATE:20210514
DTEND;VALUE=DATE:20210515
END:VEVENT
END:VCALENDAR
