BEGIN:VCALENDAR
VERSION:2.0
PRODID:SchoolNow
CALSCALE:GREGORIAN
BEGIN:VEVENT
UID:f9e3927e-7b80-11eb-9d1f-0a3bb170bc43
DTSTAMP:20210316T193800Z
SUMMARY:Pay Day (6-11-21)
URL;VALUE=URI:https://www.liverpool.k12.ny.us/departments/business-office/c
 alendar/2550623/pay-day
DTSTART;VALUE=DATE:20210611
DTEND;VALUE=DATE:20210612
END:VEVENT
END:VCALENDAR
