BEGIN:VCALENDAR
VERSION:2.0
PRODID:SchoolNow
CALSCALE:GREGORIAN
BEGIN:VEVENT
UID:0bc0106c-7b81-11eb-8aa3-0a3bb170bc43
DTSTAMP:20210316T193814Z
SUMMARY:Pay Day (6-25-21)
URL;VALUE=URI:https://www.liverpool.k12.ny.us/departments/business-office/c
 alendar/2550624/pay-day
DTSTART;VALUE=DATE:20210625
DTEND;VALUE=DATE:20210626
END:VEVENT
END:VCALENDAR
