BEGIN:VCALENDAR
VERSION:2.0
PRODID:SchoolNow
CALSCALE:GREGORIAN
BEGIN:VEVENT
UID:6930a4d6-a832-11eb-9e57-0271893e998d
DTSTAMP:20210428T150003Z
SUMMARY:Pay Day (7-9-21)
URL;VALUE=URI:https://www.liverpool.k12.ny.us/departments/business-office/c
 alendar/2588110/pay-day-7-9-21
DTSTART;VALUE=DATE:20210709
DTEND;VALUE=DATE:20210710
END:VEVENT
END:VCALENDAR
