BEGIN:VCALENDAR
VERSION:2.0
PRODID:SchoolNow
CALSCALE:GREGORIAN
BEGIN:VEVENT
UID:a66306d2-a832-11eb-95bd-0271893e998d
DTSTAMP:20210428T150145Z
SUMMARY:Pay Day (7-16-21)*
URL;VALUE=URI:https://www.liverpool.k12.ny.us/departments/business-office/c
 alendar/2588112/pay-day-7-16-21
DTSTART;VALUE=DATE:20210716
DTEND;VALUE=DATE:20210717
END:VEVENT
END:VCALENDAR
