BEGIN:VCALENDAR
VERSION:2.0
PRODID:SchoolNow
CALSCALE:GREGORIAN
BEGIN:VEVENT
UID:b4f2bf3a-a832-11eb-b366-0271893e998d
DTSTAMP:20210428T150210Z
SUMMARY:Pay Day (7-30-21)
URL;VALUE=URI:https://www.liverpool.k12.ny.us/departments/business-office/c
 alendar/2588113/pay-day-7-30-21
DTSTART;VALUE=DATE:20210730
DTEND;VALUE=DATE:20210731
END:VEVENT
END:VCALENDAR
