BEGIN:VCALENDAR
VERSION:2.0
PRODID:SchoolNow
CALSCALE:GREGORIAN
BEGIN:VEVENT
UID:c2dfca84-a832-11eb-8702-0271893e998d
DTSTAMP:20210428T150233Z
SUMMARY:Pay Day (8-13-21)
URL;VALUE=URI:https://www.liverpool.k12.ny.us/departments/business-office/c
 alendar/2588114/pay-day-8-13-21
DTSTART;VALUE=DATE:20210813
DTEND;VALUE=DATE:20210814
END:VEVENT
END:VCALENDAR
