BEGIN:VCALENDAR
VERSION:2.0
PRODID:SchoolNow
CALSCALE:GREGORIAN
BEGIN:VEVENT
UID:ce96b31a-a832-11eb-94f9-0271893e998d
DTSTAMP:20210428T150253Z
SUMMARY:Pay Day (8-27-21)
URL;VALUE=URI:https://www.liverpool.k12.ny.us/departments/business-office/c
 alendar/2588115/pay-day-8-27-21
DTSTART;VALUE=DATE:20210827
DTEND;VALUE=DATE:20210828
END:VEVENT
END:VCALENDAR
