BEGIN:VCALENDAR
VERSION:2.0
PRODID:SchoolNow
CALSCALE:GREGORIAN
BEGIN:VEVENT
UID:2b1b4704-a833-11eb-b662-0271893e998d
DTSTAMP:20210428T150528Z
SUMMARY:Pay Day (9-10-21)*
URL;VALUE=URI:https://www.liverpool.k12.ny.us/departments/business-office/c
 alendar/2588118/pay-day-9-10-21
DTSTART;VALUE=DATE:20210910
DTEND;VALUE=DATE:20210911
END:VEVENT
END:VCALENDAR
