BEGIN:VCALENDAR
VERSION:2.0
PRODID:SchoolNow
CALSCALE:GREGORIAN
BEGIN:VEVENT
UID:396fdeaa-a833-11eb-9c52-0271893e998d
DTSTAMP:20210428T150552Z
SUMMARY:Pay Day (9-24-21)
URL;VALUE=URI:https://www.liverpool.k12.ny.us/departments/business-office/c
 alendar/2588119/pay-day-9-24-21
DTSTART;VALUE=DATE:20210924
DTEND;VALUE=DATE:20210925
END:VEVENT
END:VCALENDAR
