BEGIN:VCALENDAR
VERSION:2.0
PRODID:SchoolNow
CALSCALE:GREGORIAN
BEGIN:VEVENT
UID:48e221d6-a833-11eb-8c3d-0271893e998d
DTSTAMP:20210428T150618Z
SUMMARY:Pay Day (10-8-21)
URL;VALUE=URI:https://www.liverpool.k12.ny.us/departments/business-office/c
 alendar/2588120/pay-day-10-8-21
DTSTART;VALUE=DATE:20211008
DTEND;VALUE=DATE:20211009
END:VEVENT
END:VCALENDAR
