BEGIN:VCALENDAR
VERSION:2.0
PRODID:SchoolNow
CALSCALE:GREGORIAN
BEGIN:VEVENT
UID:5621eaca-a833-11eb-871e-0271893e998d
DTSTAMP:20210428T150640Z
SUMMARY:Pay Day (10-22-21)
URL;VALUE=URI:https://www.liverpool.k12.ny.us/departments/business-office/c
 alendar/2588121/pay-day-10-22-21
DTSTART;VALUE=DATE:20211022
DTEND;VALUE=DATE:20211023
END:VEVENT
END:VCALENDAR
