BEGIN:VCALENDAR
VERSION:2.0
PRODID:SchoolNow
CALSCALE:GREGORIAN
BEGIN:VEVENT
UID:64c43f9c-a833-11eb-a3e6-0271893e998d
DTSTAMP:20210428T150705Z
SUMMARY:Pay Day (11-5-21)
URL;VALUE=URI:https://www.liverpool.k12.ny.us/departments/business-office/c
 alendar/2588122/pay-day-11-5-21
DTSTART;VALUE=DATE:20211105
DTEND;VALUE=DATE:20211106
END:VEVENT
END:VCALENDAR
