BEGIN:VCALENDAR
VERSION:2.0
PRODID:SchoolNow
CALSCALE:GREGORIAN
BEGIN:VEVENT
UID:736157c4-a833-11eb-b25d-0271893e998d
DTSTAMP:20210428T150729Z
SUMMARY:Pay Day (11-19-21)
URL;VALUE=URI:https://www.liverpool.k12.ny.us/departments/business-office/c
 alendar/2588123/pay-day-11-19-21
DTSTART;VALUE=DATE:20211119
DTEND;VALUE=DATE:20211120
END:VEVENT
END:VCALENDAR
