BEGIN:VCALENDAR
VERSION:2.0
PRODID:SchoolNow
CALSCALE:GREGORIAN
BEGIN:VEVENT
UID:89f24ea8-a833-11eb-8603-0271893e998d
DTSTAMP:20210428T150807Z
SUMMARY:Pay Day (12-3-21)
URL;VALUE=URI:https://www.liverpool.k12.ny.us/departments/business-office/c
 alendar/2588124/pay-day-12-3-21
DTSTART;VALUE=DATE:20211203
DTEND;VALUE=DATE:20211204
END:VEVENT
END:VCALENDAR
