BEGIN:VCALENDAR
VERSION:2.0
PRODID:SchoolNow
CALSCALE:GREGORIAN
BEGIN:VEVENT
UID:9e1e63b2-a833-11eb-b1ee-0271893e998d
DTSTAMP:20210428T150841Z
SUMMARY:Pay Day (12-17-21)
URL;VALUE=URI:https://www.liverpool.k12.ny.us/departments/business-office/c
 alendar/2588125/pay-day-12-17-21
DTSTART;VALUE=DATE:20211217
DTEND;VALUE=DATE:20211218
END:VEVENT
END:VCALENDAR
