BEGIN:VCALENDAR
VERSION:2.0
PRODID:SchoolNow
CALSCALE:GREGORIAN
BEGIN:VEVENT
UID:b6360432-a833-11eb-8fcf-0271893e998d
DTSTAMP:20210428T150921Z
SUMMARY:Pay Day (12-23-21)*
URL;VALUE=URI:https://www.liverpool.k12.ny.us/departments/business-office/c
 alendar/2588126/pay-day-12-23-21
DTSTART;VALUE=DATE:20211223
DTEND;VALUE=DATE:20211224
END:VEVENT
END:VCALENDAR
