BEGIN:VCALENDAR
VERSION:2.0
PRODID:SchoolNow
CALSCALE:GREGORIAN
BEGIN:VEVENT
UID:d0b36a70-a833-11eb-85fb-0271893e998d
DTSTAMP:20210428T151006Z
SUMMARY:Pay Day (1-7-22)
URL;VALUE=URI:https://www.liverpool.k12.ny.us/departments/business-office/c
 alendar/2588131/pay-day-1-7-22
DTSTART;VALUE=DATE:20220107
DTEND;VALUE=DATE:20220108
END:VEVENT
END:VCALENDAR
