BEGIN:VCALENDAR
VERSION:2.0
PRODID:SchoolNow
CALSCALE:GREGORIAN
BEGIN:VEVENT
UID:e1323e8a-a833-11eb-8baf-0271893e998d
DTSTAMP:20210428T151033Z
SUMMARY:Pay Day (1-21-22)
URL;VALUE=URI:https://www.liverpool.k12.ny.us/departments/business-office/c
 alendar/2588132/pay-day-1-21-22
DTSTART;VALUE=DATE:20220121
DTEND;VALUE=DATE:20220122
END:VEVENT
END:VCALENDAR
