BEGIN:VCALENDAR
VERSION:2.0
PRODID:SchoolNow
CALSCALE:GREGORIAN
BEGIN:VEVENT
UID:efdc432c-a833-11eb-8738-0271893e998d
DTSTAMP:20210428T151058Z
SUMMARY:Pay Day (2-4-22)
URL;VALUE=URI:https://www.liverpool.k12.ny.us/departments/business-office/c
 alendar/2588133/pay-day-2-4-22
DTSTART;VALUE=DATE:20220204
DTEND;VALUE=DATE:20220205
END:VEVENT
END:VCALENDAR
