BEGIN:VCALENDAR
VERSION:2.0
PRODID:SchoolNow
CALSCALE:GREGORIAN
BEGIN:VEVENT
UID:0fadad80-a834-11eb-909f-0271893e998d
DTSTAMP:20210428T151151Z
SUMMARY:Pay Day (2-18-22)
URL;VALUE=URI:https://www.liverpool.k12.ny.us/departments/business-office/c
 alendar/2588134/pay-day-2-18-22
DTSTART;VALUE=DATE:20220218
DTEND;VALUE=DATE:20220219
END:VEVENT
END:VCALENDAR
