BEGIN:VCALENDAR
VERSION:2.0
PRODID:SchoolNow
CALSCALE:GREGORIAN
BEGIN:VEVENT
UID:1d5a73b4-a834-11eb-86fc-0271893e998d
DTSTAMP:20210428T151214Z
SUMMARY:Pay Day (3-4-22)
URL;VALUE=URI:https://www.liverpool.k12.ny.us/departments/business-office/c
 alendar/2588135/pay-day-3-4-22
DTSTART;VALUE=DATE:20220304
DTEND;VALUE=DATE:20220305
END:VEVENT
END:VCALENDAR
