BEGIN:VCALENDAR
VERSION:2.0
PRODID:SchoolNow
CALSCALE:GREGORIAN
BEGIN:VEVENT
UID:2bad284e-a834-11eb-a357-0271893e998d
DTSTAMP:20210428T151238Z
SUMMARY:Pay Day (3-18-22)
URL;VALUE=URI:https://www.liverpool.k12.ny.us/departments/business-office/c
 alendar/2588136/pay-day-3-18-22
DTSTART;VALUE=DATE:20220318
DTEND;VALUE=DATE:20220319
END:VEVENT
END:VCALENDAR
