BEGIN:VCALENDAR
VERSION:2.0
PRODID:SchoolNow
CALSCALE:GREGORIAN
BEGIN:VEVENT
UID:36df3716-a834-11eb-954b-0271893e998d
DTSTAMP:20210428T151257Z
SUMMARY:Pay Day (4-1-22)
URL;VALUE=URI:https://www.liverpool.k12.ny.us/departments/business-office/c
 alendar/2588137/pay-day-4-1-22
DTSTART;VALUE=DATE:20220401
DTEND;VALUE=DATE:20220402
END:VEVENT
END:VCALENDAR
