BEGIN:VCALENDAR
VERSION:2.0
PRODID:SchoolNow
CALSCALE:GREGORIAN
BEGIN:VEVENT
UID:4be35d72-a834-11eb-abc8-0271893e998d
DTSTAMP:20210428T151332Z
SUMMARY:Pay Day (4-15-22)
URL;VALUE=URI:https://www.liverpool.k12.ny.us/departments/business-office/c
 alendar/2588138/pay-day-4-15-22
DTSTART;VALUE=DATE:20220415
DTEND;VALUE=DATE:20220416
END:VEVENT
END:VCALENDAR
