BEGIN:VCALENDAR
VERSION:2.0
PRODID:SchoolNow
CALSCALE:GREGORIAN
BEGIN:VEVENT
UID:7ff001e2-a834-11eb-8dee-0271893e998d
DTSTAMP:20210428T151500Z
SUMMARY:Pay Day (4-29-22)
URL;VALUE=URI:https://www.liverpool.k12.ny.us/departments/business-office/c
 alendar/2588139/pay-day-4-29-22
DTSTART;VALUE=DATE:20220429
DTEND;VALUE=DATE:20220430
END:VEVENT
END:VCALENDAR
