BEGIN:VCALENDAR
VERSION:2.0
PRODID:SchoolNow
CALSCALE:GREGORIAN
BEGIN:VEVENT
UID:26026d8e-2c22-11f0-a376-0e618148639d
DTSTAMP:20250508T153602Z
SUMMARY:Thanksgiving Recess - School Closed (11-26-25)
URL;VALUE=URI:https://www.liverpool.k12.ny.us/schools/che/calendar/8090495/
 thanksgiving-recess-school-closed-11-26-25
DTSTART:20251126T163400Z
DTEND:20251126T173400Z
END:VEVENT
END:VCALENDAR
