BEGIN:VCALENDAR
VERSION:2.0
PRODID:SchoolNow
CALSCALE:GREGORIAN
BEGIN:VEVENT
UID:b51390b2-51ce-11f0-83a9-0a58a9feac02
DTSTAMP:20250625T141429Z
SUMMARY:Fall Fun Fest (10-25-25)
URL;VALUE=URI:https://www.liverpool.k12.ny.us/schools/che/calendar/8352412/
 fall-fun-fest-10-25-25
DTSTART:20251025T160000Z
DTEND:20251025T200000Z
END:VEVENT
END:VCALENDAR
