BEGIN:VCALENDAR
VERSION:2.0
PRODID:SchoolNow
CALSCALE:GREGORIAN
BEGIN:VEVENT
UID:749890c2-1e48-11f1-a6d9-0a58a9feac02
DTSTAMP:20260312T191956Z
SUMMARY:Olympiad at the 'Pool (5-21-26)
LOCATION:Liverpool High School
URL;VALUE=URI:https://www.liverpool.k12.ny.us/schools/che/calendar/8912984/
 olympiad-at-the-pool-5-21-26
DTSTART:20260521T143000Z
DTEND:20260521T170000Z
END:VEVENT
END:VCALENDAR
