BEGIN:VCALENDAR
VERSION:2.0
PRODID:SchoolNow
CALSCALE:GREGORIAN
BEGIN:VEVENT
UID:f0fa0aa8-6eb6-11ef-b443-02e29557f51b
DTSTAMP:20240909T142227Z
SUMMARY:Middle School Report Cards Online (1-10-25)
URL;VALUE=URI:https://www.liverpool.k12.ny.us/schools/chm/calendar/6560140/
 middle-school-report-cards-online-1-10-25
DTSTART:20250110T152100Z
DTEND:20250110T162100Z
END:VEVENT
END:VCALENDAR
