BEGIN:VCALENDAR
VERSION:2.0
PRODID:SchoolNow
CALSCALE:GREGORIAN
BEGIN:VEVENT
UID:263d8e80-2c29-11f0-8a01-023f77d25ced
DTSTAMP:20250508T162609Z
SUMMARY:Holiday Recess - School Closed (12-22-25)
URL;VALUE=URI:https://www.liverpool.k12.ny.us/schools/lbe/calendar/8090666/
 holiday-recess-school-closed-12-22-25
DTSTART:20251222T172300Z
DTEND:20251222T182300Z
END:VEVENT
END:VCALENDAR
