BEGIN:VCALENDAR
VERSION:2.0
PRODID:SchoolNow
CALSCALE:GREGORIAN
BEGIN:VEVENT
UID:140ec620-b40f-11f0-ad7c-0affda30926b
DTSTAMP:20251028T150210Z
SUMMARY:LBE Soccer Shots
URL;VALUE=URI:https://www.liverpool.k12.ny.us/schools/lbe/calendar/8756969/
 lbe-soccer-shots
DTSTART:20251110T205000Z
DTEND:20251110T213500Z
END:VEVENT
END:VCALENDAR
