BEGIN:VCALENDAR
VERSION:2.0
PRODID:SchoolNow
CALSCALE:GREGORIAN
BEGIN:VEVENT
UID:b4699cbc-b40f-11f0-ac7c-0a58a9feac02
DTSTAMP:20251028T150639Z
SUMMARY:LBE Soccer Shots
URL;VALUE=URI:https://www.liverpool.k12.ny.us/schools/lbe/calendar/8756970/
 lbe-soccer-shots
DTSTART:20251117T205000Z
DTEND:20251117T213500Z
END:VEVENT
END:VCALENDAR
