BEGIN:VCALENDAR
VERSION:2.0
PRODID:SchoolNow
CALSCALE:GREGORIAN
BEGIN:VEVENT
UID:f3fbf53c-b40f-11f0-b05a-0285a35182b7
DTSTAMP:20251028T150825Z
SUMMARY:LBE Soccer Shots
URL;VALUE=URI:https://www.liverpool.k12.ny.us/schools/lbe/calendar/8756972/
 lbe-soccer-shots
DTSTART:20251201T205000Z
DTEND:20251201T213500Z
END:VEVENT
END:VCALENDAR
