BEGIN:VCALENDAR
VERSION:2.0
PRODID:SchoolNow
CALSCALE:GREGORIAN
BEGIN:VEVENT
UID:327cb72e-b410-11f0-9aca-0a58a9feac02
DTSTAMP:20251028T151010Z
SUMMARY:LBE Soccer Shots
URL;VALUE=URI:https://www.liverpool.k12.ny.us/schools/lbe/calendar/8756975/
 lbe-soccer-shots
DTSTART:20251215T205000Z
DTEND:20251215T213500Z
END:VEVENT
END:VCALENDAR
