BEGIN:VCALENDAR
VERSION:2.0
PRODID:SchoolNow
CALSCALE:GREGORIAN
BEGIN:VEVENT
UID:d5ead3fa-b410-11f0-b7cf-0a58a9feac02
DTSTAMP:20251028T151444Z
SUMMARY:LBE Shades of Orange Art Program
URL;VALUE=URI:https://www.liverpool.k12.ny.us/schools/lbe/calendar/8756977/
 lbe-shades-of-orange-art-program
DTSTART:20251125T204500Z
DTEND:20251125T214500Z
END:VEVENT
END:VCALENDAR
